Workbook

Sheet Resumen
A1: Cartera por edades al corte
A2: ="Fecha de corte: "&TEXT(Facturas!C3,"dd/mm/")&YEAR(Facturas!C3)
A4: Cliente | B4: Por vencer | C4: 1 a 30 | D4: 31 a 60 | E4: 61 a 90 | F4: 91 a 180 | G4: 181 a 360 | H4: Más de 360 | I4: Total | J4: % vencido
A5: Cliente A | B5: =SUMIFS(Facturas!$E$6:$E$205,Facturas!$A$6:$A$205,$A5,Facturas!$G$6:$G$205,B$4) | C5: =SUMIFS(Facturas!$E$6:$E$205,Facturas!$A$6:$A$205,$A5,Facturas!$G$6:$G$205,C$4) | D5: =SUMIFS(Facturas!$E$6:$E$205,Facturas!$A$6:$A$205,$A5,Facturas!$G$6:$G$205,D$4) | E5: =SUMIFS(Facturas!$E$6:$E$205,Facturas!$A$6:$A$205,$A5,Facturas!$G$6:$G$205,E$4) | F5: =SUMIFS(Facturas!$E$6:$E$205,Facturas!$A$6:$A$205,$A5,Facturas!$G$6:$G$205,F$4) | G5: =SUMIFS(Facturas!$E$6:$E$205,Facturas!$A$6:$A$205,$A5,Facturas!$G$6:$G$205,G$4) | H5: =SUMIFS(Facturas!$E$6:$E$205,Facturas!$A$6:$A$205,$A5,Facturas!$G$6:$G$205,H$4) | I5: =SUM(B5:H5) | J5: =IF(I5=0,"",(I5-B5)/I5)
A6: Cliente B | B6: =SUMIFS(Facturas!$E$6:$E$205,Facturas!$A$6:$A$205,$A6,Facturas!$G$6:$G$205,B$4) | C6: =SUMIFS(Facturas!$E$6:$E$205,Facturas!$A$6:$A$205,$A6,Facturas!$G$6:$G$205,C$4) | D6: =SUMIFS(Facturas!$E$6:$E$205,Facturas!$A$6:$A$205,$A6,Facturas!$G$6:$G$205,D$4) | E6: =SUMIFS(Facturas!$E$6:$E$205,Facturas!$A$6:$A$205,$A6,Facturas!$G$6:$G$205,E$4) | F6: =SUMIFS(Facturas!$E$6:$E$205,Facturas!$A$6:$A$205,$A6,Facturas!$G$6:$G$205,F$4) | G6: =SUMIFS(Facturas!$E$6:$E$205,Facturas!$A$6:$A$205,$A6,Facturas!$G$6:$G$205,G$4) | H6: =SUMIFS(Facturas!$E$6:$E$205,Facturas!$A$6:$A$205,$A6,Facturas!$G$6:$G$205,H$4) | I6: =SUM(B6:H6) | J6: =IF(I6=0,"",(I6-B6)/I6)
A7: Cliente C | B7: =SUMIFS(Facturas!$E$6:$E$205,Facturas!$A$6:$A$205,$A7,Facturas!$G$6:$G$205,B$4) | C7: =SUMIFS(Facturas!$E$6:$E$205,Facturas!$A$6:$A$205,$A7,Facturas!$G$6:$G$205,C$4) | D7: =SUMIFS(Facturas!$E$6:$E$205,Facturas!$A$6:$A$205,$A7,Facturas!$G$6:$G$205,D$4) | E7: =SUMIFS(Facturas!$E$6:$E$205,Facturas!$A$6:$A$205,$A7,Facturas!$G$6:$G$205,E$4) | F7: =SUMIFS(Facturas!$E$6:$E$205,Facturas!$A$6:$A$205,$A7,Facturas!$G$6:$G$205,F$4) | G7: =SUMIFS(Facturas!$E$6:$E$205,Facturas!$A$6:$A$205,$A7,Facturas!$G$6:$G$205,G$4) | H7: =SUMIFS(Facturas!$E$6:$E$205,Facturas!$A$6:$A$205,$A7,Facturas!$G$6:$G$205,H$4) | I7: =SUM(B7:H7) | J7: =IF(I7=0,"",(I7-B7)/I7)
A8: Cliente D | B8: =SUMIFS(Facturas!$E$6:$E$205,Facturas!$A$6:$A$205,$A8,Facturas!$G$6:$G$205,B$4) | C8: =SUMIFS(Facturas!$E$6:$E$205,Facturas!$A$6:$A$205,$A8,Facturas!$G$6:$G$205,C$4) | D8: =SUMIFS(Facturas!$E$6:$E$205,Facturas!$A$6:$A$205,$A8,Facturas!$G$6:$G$205,D$4) | E8: =SUMIFS(Facturas!$E$6:$E$205,Facturas!$A$6:$A$205,$A8,Facturas!$G$6:$G$205,E$4) | F8: =SUMIFS(Facturas!$E$6:$E$205,Facturas!$A$6:$A$205,$A8,Facturas!$G$6:$G$205,F$4) | G8: =SUMIFS(Facturas!$E$6:$E$205,Facturas!$A$6:$A$205,$A8,Facturas!$G$6:$G$205,G$4) | H8: =SUMIFS(Facturas!$E$6:$E$205,Facturas!$A$6:$A$205,$A8,Facturas!$G$6:$G$205,H$4) | I8: =SUM(B8:H8) | J8: =IF(I8=0,"",(I8-B8)/I8)
A9: Cliente E | B9: =SUMIFS(Facturas!$E$6:$E$205,Facturas!$A$6:$A$205,$A9,Facturas!$G$6:$G$205,B$4) | C9: =SUMIFS(Facturas!$E$6:$E$205,Facturas!$A$6:$A$205,$A9,Facturas!$G$6:$G$205,C$4) | D9: =SUMIFS(Facturas!$E$6:$E$205,Facturas!$A$6:$A$205,$A9,Facturas!$G$6:$G$205,D$4) | E9: =SUMIFS(Facturas!$E$6:$E$205,Facturas!$A$6:$A$205,$A9,Facturas!$G$6:$G$205,E$4) | F9: =SUMIFS(Facturas!$E$6:$E$205,Facturas!$A$6:$A$205,$A9,Facturas!$G$6:$G$205,F$4) | G9: =SUMIFS(Facturas!$E$6:$E$205,Facturas!$A$6:$A$205,$A9,Facturas!$G$6:$G$205,G$4) | H9: =SUMIFS(Facturas!$E$6:$E$205,Facturas!$A$6:$A$205,$A9,Facturas!$G$6:$G$205,H$4) | I9: =SUM(B9:H9) | J9: =IF(I9=0,"",(I9-B9)/I9)
A10: Total | B10: =SUM(B5:B9) | C10: =SUM(C5:C9) | D10: =SUM(D5:D9) | E10: =SUM(E5:E9) | F10: =SUM(F5:F9) | G10: =SUM(G5:G9) | H10: =SUM(H5:H9) | I10: =SUM(I5:I9) | J10: =(I10-B10)/I10
A11: Participación | B11: =B10/$I$10 | C11: =C10/$I$10 | D11: =D10/$I$10 | E11: =E10/$I$10 | F11: =F10/$I$10 | G11: =G10/$I$10 | H11: =H10/$I$10 | I11: =I10/$I$10
A13: Indicadores
A14: Ventas a crédito del periodo (12 meses) | C14: 120000000
A15: Cartera al inicio del periodo | C15: 22000000
A16: Cartera al corte | C16: =I10
A17: Rotación de cartera (veces) = ventas a crédito / cartera promedio | C17: =C14/AVERAGE(C15,C16)
A18: Periodo promedio de cobro (días) = 360 / rotación | C18: =360/C17
A19: Cartera vencida a más de 90 días | C19: =SUM(F10:H10)

Sheet Facturas
A1: Cartera por edades: detalle de facturas
A2: Gerencie.com. Escriba la fecha de corte en C3 y las facturas desde la fila 6.
A3: Fecha de corte | C3: 46295
A5: Cliente | B5: Factura | C5: Fecha de emisión | D5: Vencimiento | E5: Saldo | F5: Días vencidos | G5: Edad
A6: Cliente A | B6: FE-101 | C6: 46275 | D6: 46305 | E6: 4500000 | F6: =IF(D6="","",MAX(0,$C$3-D6)) | G6: =IF(D6="","",IF($C$3<=D6,"Por vencer",VLOOKUP(F6,Rangos!$A$5:$C$10,3,TRUE)))
A7: Cliente A | B7: FE-087 | C7: 46218 | D7: 46248 | E7: 2200000 | F7: =IF(D7="","",MAX(0,$C$3-D7)) | G7: =IF(D7="","",IF($C$3<=D7,"Por vencer",VLOOKUP(F7,Rangos!$A$5:$C$10,3,TRUE)))
A8: Cliente B | B8: FE-095 | C8: 46254 | D8: 46284 | E8: 3100000 | F8: =IF(D8="","",MAX(0,$C$3-D8)) | G8: =IF(D8="","",IF($C$3<=D8,"Por vencer",VLOOKUP(F8,Rangos!$A$5:$C$10,3,TRUE)))
A9: Cliente B | B9: FE-060 | C9: 46144 | D9: 46174 | E9: 1800000 | F9: =IF(D9="","",MAX(0,$C$3-D9)) | G9: =IF(D9="","",IF($C$3<=D9,"Por vencer",VLOOKUP(F9,Rangos!$A$5:$C$10,3,TRUE)))
A10: Cliente C | B10: FE-040 | C10: 46082 | D10: 46112 | E10: 950000 | F10: =IF(D10="","",MAX(0,$C$3-D10)) | G10: =IF(D10="","",IF($C$3<=D10,"Por vencer",VLOOKUP(F10,Rangos!$A$5:$C$10,3,TRUE)))
A11: Cliente C | B11: FE-012 | C11: 45870 | D11: 45900 | E11: 1200000 | F11: =IF(D11="","",MAX(0,$C$3-D11)) | G11: =IF(D11="","",IF($C$3<=D11,"Por vencer",VLOOKUP(F11,Rangos!$A$5:$C$10,3,TRUE)))
A12: Cliente D | B12: FE-099 | C12: 46266 | D12: 46296 | E12: 6000000 | F12: =IF(D12="","",MAX(0,$C$3-D12)) | G12: =IF(D12="","",IF($C$3<=D12,"Por vencer",VLOOKUP(F12,Rangos!$A$5:$C$10,3,TRUE)))
A13: Cliente D | B13: FE-079 | C13: 46193 | D13: 46223 | E13: 2700000 | F13: =IF(D13="","",MAX(0,$C$3-D13)) | G13: =IF(D13="","",IF($C$3<=D13,"Por vencer",VLOOKUP(F13,Rangos!$A$5:$C$10,3,TRUE)))
A14: Cliente E | B14: FE-005 | C14: 45698 | D14: 45728 | E14: 800000 | F14: =IF(D14="","",MAX(0,$C$3-D14)) | G14: =IF(D14="","",IF($C$3<=D14,"Por vencer",VLOOKUP(F14,Rangos!$A$5:$C$10,3,TRUE)))
A15: Cliente E | B15: FE-091 | C15: 46239 | D15: 46269 | E15: 1500000 | F15: =IF(D15="","",MAX(0,$C$3-D15)) | G15: =IF(D15="","",IF($C$3<=D15,"Por vencer",VLOOKUP(F15,Rangos!$A$5:$C$10,3,TRUE)))
F16: =IF(D16="","",MAX(0,$C$3-D16)) | G16: =IF(D16="","",IF($C$3<=D16,"Por vencer",VLOOKUP(F16,Rangos!$A$5:$C$10,3,TRUE)))
F17: =IF(D17="","",MAX(0,$C$3-D17)) | G17: =IF(D17="","",IF($C$3<=D17,"Por vencer",VLOOKUP(F17,Rangos!$A$5:$C$10,3,TRUE)))
F18: =IF(D18="","",MAX(0,$C$3-D18)) | G18: =IF(D18="","",IF($C$3<=D18,"Por vencer",VLOOKUP(F18,Rangos!$A$5:$C$10,3,TRUE)))
F19: =IF(D19="","",MAX(0,$C$3-D19)) | G19: =IF(D19="","",IF($C$3<=D19,"Por vencer",VLOOKUP(F19,Rangos!$A$5:$C$10,3,TRUE)))
F20: =IF(D20="","",MAX(0,$C$3-D20)) | G20: =IF(D20="","",IF($C$3<=D20,"Por vencer",VLOOKUP(F20,Rangos!$A$5:$C$10,3,TRUE)))
F21: =IF(D21="","",MAX(0,$C$3-D21)) | G21: =IF(D21="","",IF($C$3<=D21,"Por vencer",VLOOKUP(F21,Rangos!$A$5:$C$10,3,TRUE)))
F22: =IF(D22="","",MAX(0,$C$3-D22)) | G22: =IF(D22="","",IF($C$3<=D22,"Por vencer",VLOOKUP(F22,Rangos!$A$5:$C$10,3,TRUE)))
F23: =IF(D23="","",MAX(0,$C$3-D23)) | G23: =IF(D23="","",IF($C$3<=D23,"Por vencer",VLOOKUP(F23,Rangos!$A$5:$C$10,3,TRUE)))
F24: =IF(D24="","",MAX(0,$C$3-D24)) | G24: =IF(D24="","",IF($C$3<=D24,"Por vencer",VLOOKUP(F24,Rangos!$A$5:$C$10,3,TRUE)))
F25: =IF(D25="","",MAX(0,$C$3-D25)) | G25: =IF(D25="","",IF($C$3<=D25,"Por vencer",VLOOKUP(F25,Rangos!$A$5:$C$10,3,TRUE)))
F26: =IF(D26="","",MAX(0,$C$3-D26)) | G26: =IF(D26="","",IF($C$3<=D26,"Por vencer",VLOOKUP(F26,Rangos!$A$5:$C$10,3,TRUE)))
F27: =IF(D27="","",MAX(0,$C$3-D27)) | G27: =IF(D27="","",IF($C$3<=D27,"Por vencer",VLOOKUP(F27,Rangos!$A$5:$C$10,3,TRUE)))
... F205: =IF(D205="","",MAX(0,$C$3-D205)) | G205: =IF(D205="","",IF($C$3<=D205,"Por vencer",VLOOKUP(F205,Rangos!$A$5:$C$10,3,TRUE)))

Sheet Rangos
A1: Rangos de edad de la cartera
A2: Puede cambiar los límites; deben quedar en orden ascendente.
A4: Desde (días vencidos) | B4: Hasta | C4: Rango
A5: 1 | B5: 30 | C5: 1 a 30
A6: 31 | B6: 60 | C6: 31 a 60
A7: 61 | B7: 90 | C7: 61 a 90
A8: 91 | B8: 180 | C8: 91 a 180
A9: 181 | B9: 360 | C9: 181 a 360
A10: 361 | C10: Más de 360

Sheet Deterioro fiscal
A1: Deterioro de cartera: método general (referencia fiscal)
A2: Porcentajes del método general (art. 145 E.T. y su reglamentación). VERIFIQUE antes de usar; en NIIF el deterioro se estima por pérdida esperada o evidencia objetiva.
A4: Antigüedad del vencimiento | B4: Saldo | C4: Porcentaje | D4: Deterioro
A5: Más de 3 meses y hasta 6 meses | B5: =Resumen!F10 | C5: 0.05 | D5: =B5*C5
A6: Más de 6 meses y hasta 1 año | B6: =Resumen!G10 | C6: 0.1 | D6: =B6*C6
A7: Más de 1 año | B7: =Resumen!H10 | C7: 0.15 | D7: =B7*C7
A8: Total | D8: =SUM(D5:D7)
A10: Nota: los rangos de 91 a 180 y 181 a 360 días se usan como aproximación de 3 a 6 meses y 6 a 12 meses.
